BEGIN:VCALENDAR
VERSION:2.0
PRODID:-//wp-events-plugin.com//6.6.4.4//EN
BEGIN:VEVENT
UID:10405@woodwaychristianschool.org
DTSTART:20260506T140000Z
DTEND:20260506T153000Z
DTSTAMP:20260129T181034Z
URL:https://woodwaychristianschool.org/events/2nd-grade-poetry-recital-49/
SUMMARY:2nd Grade Poetry Recital
DESCRIPTION:
CATEGORIES:import,School
END:VEVENT
END:VCALENDAR