BEGIN:VCALENDAR
VERSION:2.0
PRODID:-//wp-events-plugin.com//6.6.4.4//EN
BEGIN:VEVENT
UID:1373@woodwaychristianschool.org
DTSTART:20240215T211000Z
DTEND:20240215T223000Z
DTSTAMP:20240112T165951Z
URL:https://woodwaychristianschool.org/events/4th-boys-basketball-practice
 -5/
SUMMARY:4th Boys Basketball Practice
DESCRIPTION:
CATEGORIES:Athletics,import
END:VEVENT
END:VCALENDAR