BEGIN:VCALENDAR
VERSION:2.0
PRODID:-//wp-events-plugin.com//6.6.4.4//EN
BEGIN:VEVENT
UID:10424@woodwaychristianschool.org
DTSTART:20260505T213000Z
DTEND:20260505T230000Z
DTSTAMP:20260318T181202Z
URL:https://woodwaychristianschool.org/events/art-steam-night/
SUMMARY:Art/Steam Night
DESCRIPTION:
CATEGORIES:import,School
END:VEVENT
END:VCALENDAR