BEGIN:VCALENDAR
VERSION:2.0
PRODID:-//wp-events-plugin.com//6.6.4.4//EN
BEGIN:VEVENT
UID:1262@woodwaychristianschool.org
DTSTART:20250604T153000Z
DTEND:20250604T163000Z
DTSTAMP:20240112T160103Z
URL:https://woodwaychristianschool.org/events/chapel-74/
SUMMARY:Chapel
DESCRIPTION:
CATEGORIES:import,School
END:VEVENT
END:VCALENDAR