BEGIN:VCALENDAR
VERSION:2.0
PRODID:-//wp-events-plugin.com//6.6.4.4//EN
BEGIN:VEVENT
UID:9767@woodwaychristianschool.org
DTSTART:20250123T220000Z
DTEND:20250123T230000Z
DTSTAMP:20241022T181058Z
URL:https://woodwaychristianschool.org/events/jh-girls-basketball-game-v-v
 alor-37/
SUMMARY:JH Girls Basketball Game v. Valor
DESCRIPTION:
CATEGORIES:Athletics,import
END:VEVENT
END:VCALENDAR