BEGIN:VCALENDAR
VERSION:2.0
PRODID:-//wp-events-plugin.com//6.6.4.4//EN
BEGIN:VEVENT
UID:10407@woodwaychristianschool.org
DTSTART:20260511T211500Z
DTEND:20260511T221500Z
DTSTAMP:20260421T181046Z
URL:https://woodwaychristianschool.org/events/paws-meeting-12/
SUMMARY:PAWS Meeting
DESCRIPTION:
CATEGORIES:import,School
END:VEVENT
END:VCALENDAR