BEGIN:VCALENDAR
VERSION:2.0
PRODID:-//wp-events-plugin.com//6.6.4.4//EN
BEGIN:VEVENT
UID:10430@woodwaychristianschool.org
DTSTART:20260515T130000Z
DTEND:20260515T170000Z
DTSTAMP:20260416T181032Z
URL:https://woodwaychristianschool.org/events/uniform-sale/
SUMMARY:Uniform Sale
DESCRIPTION:
CATEGORIES:import,School
END:VEVENT
END:VCALENDAR